BEGIN:VCALENDAR
VERSION:2.0
PRODID:-//ChamberMaster//Event Calendar 2.0//EN
METHOD:PUBLISH
X-PUBLISHED-TTL:P3D
REFRESH-INTERVAL:P3D
CALSCALE:GREGORIAN
BEGIN:VEVENT
DTSTART:20250211T010000Z
DTEND:20250211T020000Z
X-MICROSOFT-CDO-ALLDAYEVENT:FALSE
SUMMARY:Somerville Board of Mayor & Alderman Meeting
DESCRIPTION:Somerville Board of mayor & Alderman Meeting
X-ALT-DESC;FMTTYPE=text/html:Somerville Board of mayor &amp\; Alderman Meeting
LOCATION:UT Martin 214 Lakeview Drive Somerville\, TN 38068
UID:e.3551.2199
SEQUENCE:3
DTSTAMP:20260425T222422Z
URL:http://business.fayettecountychamber.com/events/details/somerville-board-of-mayor-alderman-meeting-02-10-2025-2199
END:VEVENT

END:VCALENDAR
