BEGIN:VCALENDAR
VERSION:2.0
PRODID:-//ChamberMaster//Event Calendar 2.0//EN
METHOD:PUBLISH
X-PUBLISHED-TTL:P3D
REFRESH-INTERVAL:P3D
CALSCALE:GREGORIAN
BEGIN:VEVENT
DTSTART:20250211T170000Z
DTEND:20250211T190000Z
X-MICROSOFT-CDO-ALLDAYEVENT:FALSE
SUMMARY:Oakland Parks & Rec Senior Bingo
DESCRIPTION:Senior Bingo Oakland Parks and Recs 43 Main St. Oakland TN 38060
X-ALT-DESC;FMTTYPE=text/html:Senior Bingo Oakland Parks and Recs 43 Main St. Oakland TN 38060
LOCATION:43 Main St. Oakland TN 38060
UID:e.3551.675
SEQUENCE:3
DTSTAMP:20260423T103021Z
URL:https://business.fayettecountychamber.com/events/details/senior-bingo-02-11-2025-675
END:VEVENT

END:VCALENDAR
